BEGIN:VCALENDAR
VERSION:2.0
PRODID:-// - ECPv4.9.10.1//NONSGML v1.0//EN
CALSCALE:GREGORIAN
METHOD:PUBLISH
X-ORIGINAL-URL:http://southcorningvillage.com
X-WR-CALDESC:Events for 
BEGIN:VTIMEZONE
TZID:America/New_York
BEGIN:DAYLIGHT
TZOFFSETFROM:-0500
TZOFFSETTO:-0400
TZNAME:EDT
DTSTART:20200308T070000
END:DAYLIGHT
BEGIN:STANDARD
TZOFFSETFROM:-0400
TZOFFSETTO:-0500
TZNAME:EST
DTSTART:20201101T060000
END:STANDARD
END:VTIMEZONE
BEGIN:VEVENT
DTSTART;TZID=America/New_York:20201216T180000
DTEND;TZID=America/New_York:20201216T180000
DTSTAMP:20260424T181636
CREATED:20201208T144319Z
LAST-MODIFIED:20201216T152311Z
UID:892-1608141600-1608141600@southcorningvillage.com
SUMMARY:CANCELLED - Zoning Board Workshop - Zoning Law Review/Updates
DESCRIPTION:
URL:http://southcorningvillage.com/event/zoning-board-workshop-zoning-law-review-updates-3/
END:VEVENT
END:VCALENDAR