BEGIN:VCALENDAR
VERSION:2.0
PRODID:-// - ECPv4.9.10.1//NONSGML v1.0//EN
CALSCALE:GREGORIAN
METHOD:PUBLISH
X-ORIGINAL-URL:http://southcorningvillage.com
X-WR-CALDESC:Events for 
BEGIN:VTIMEZONE
TZID:America/New_York
BEGIN:DAYLIGHT
TZOFFSETFROM:-0500
TZOFFSETTO:-0400
TZNAME:EDT
DTSTART:20200308T070000
END:DAYLIGHT
BEGIN:STANDARD
TZOFFSETFROM:-0400
TZOFFSETTO:-0500
TZNAME:EST
DTSTART:20201101T060000
END:STANDARD
END:VTIMEZONE
BEGIN:VEVENT
DTSTART;TZID=America/New_York:20200930T180000
DTEND;TZID=America/New_York:20200930T180000
DTSTAMP:20260425T153326
CREATED:20200930T145744Z
LAST-MODIFIED:20200930T145744Z
UID:854-1601488800-1601488800@southcorningvillage.com
SUMMARY:Zoning Board Workshop RE: Zoning Law Review
DESCRIPTION:
URL:http://southcorningvillage.com/event/zoning-board-workshop-re-zoning-law-review/
END:VEVENT
END:VCALENDAR