BEGIN:VCALENDAR
VERSION:2.0
PRODID:-// - ECPv4.9.10.1//NONSGML v1.0//EN
CALSCALE:GREGORIAN
METHOD:PUBLISH
X-ORIGINAL-URL:http://southcorningvillage.com
X-WR-CALDESC:Events for 
BEGIN:VTIMEZONE
TZID:America/New_York
BEGIN:DAYLIGHT
TZOFFSETFROM:-0500
TZOFFSETTO:-0400
TZNAME:EDT
DTSTART:20230312T070000
END:DAYLIGHT
BEGIN:STANDARD
TZOFFSETFROM:-0400
TZOFFSETTO:-0500
TZNAME:EST
DTSTART:20231105T060000
END:STANDARD
END:VTIMEZONE
BEGIN:VEVENT
DTSTART;VALUE=DATE:20231009
DTEND;VALUE=DATE:20231010
DTSTAMP:20260423T020208
CREATED:20230501T162100Z
LAST-MODIFIED:20230501T162100Z
UID:1563-1696809600-1696895999@southcorningvillage.com
SUMMARY:Village Offices Closed
DESCRIPTION:
URL:http://southcorningvillage.com/event/village-offices-closed-51/
END:VEVENT
END:VCALENDAR