BEGIN:VCALENDAR
VERSION:2.0
PRODID:-// - ECPv4.9.10.1//NONSGML v1.0//EN
CALSCALE:GREGORIAN
METHOD:PUBLISH
X-ORIGINAL-URL:http://southcorningvillage.com
X-WR-CALDESC:Events for 
BEGIN:VTIMEZONE
TZID:America/New_York
BEGIN:DAYLIGHT
TZOFFSETFROM:-0500
TZOFFSETTO:-0400
TZNAME:EDT
DTSTART:20220313T070000
END:DAYLIGHT
BEGIN:STANDARD
TZOFFSETFROM:-0400
TZOFFSETTO:-0500
TZNAME:EST
DTSTART:20221106T060000
END:STANDARD
END:VTIMEZONE
BEGIN:VEVENT
DTSTART;VALUE=DATE:20221124
DTEND;VALUE=DATE:20221126
DTSTAMP:20260425T185830
CREATED:20220616T124921Z
LAST-MODIFIED:20220616T124921Z
UID:1166-1669248000-1669420799@southcorningvillage.com
SUMMARY:Village Offices Closed
DESCRIPTION:
URL:http://southcorningvillage.com/event/village-offices-closed-40/
END:VEVENT
END:VCALENDAR