BEGIN:VCALENDAR
VERSION:2.0
PRODID:-// - ECPv4.9.10.1//NONSGML v1.0//EN
CALSCALE:GREGORIAN
METHOD:PUBLISH
X-ORIGINAL-URL:http://southcorningvillage.com
X-WR-CALDESC:Events for 
BEGIN:VTIMEZONE
TZID:America/New_York
BEGIN:DAYLIGHT
TZOFFSETFROM:-0500
TZOFFSETTO:-0400
TZNAME:EDT
DTSTART:20230312T070000
END:DAYLIGHT
BEGIN:STANDARD
TZOFFSETFROM:-0400
TZOFFSETTO:-0500
TZNAME:EST
DTSTART:20231105T060000
END:STANDARD
END:VTIMEZONE
BEGIN:VEVENT
DTSTART;TZID=America/New_York:20230331T090000
DTEND;TZID=America/New_York:20230331T160000
DTSTAMP:20260424T154950
CREATED:20230321T150550Z
LAST-MODIFIED:20230321T150550Z
UID:1522-1680253200-1680278400@southcorningvillage.com
SUMMARY:Last Day to Pay Village Taxes Without Penalty
DESCRIPTION:
URL:http://southcorningvillage.com/event/last-day-to-pay-village-taxes-without-penalty/
END:VEVENT
END:VCALENDAR