BEGIN:VCALENDAR
VERSION:2.0
PRODID:-// - ECPv4.9.10.1//NONSGML v1.0//EN
CALSCALE:GREGORIAN
METHOD:PUBLISH
X-ORIGINAL-URL:http://southcorningvillage.com
X-WR-CALDESC:Events for 
BEGIN:VTIMEZONE
TZID:America/New_York
BEGIN:DAYLIGHT
TZOFFSETFROM:-0500
TZOFFSETTO:-0400
TZNAME:EDT
DTSTART:20200308T070000
END:DAYLIGHT
BEGIN:STANDARD
TZOFFSETFROM:-0400
TZOFFSETTO:-0500
TZNAME:EST
DTSTART:20201101T060000
END:STANDARD
END:VTIMEZONE
BEGIN:VEVENT
DTSTART;VALUE=DATE:20201012
DTEND;VALUE=DATE:20201013
DTSTAMP:20260425T141341
CREATED:20200603T200636Z
LAST-MODIFIED:20200603T200932Z
UID:814-1602460800-1602547199@southcorningvillage.com
SUMMARY:Village Offices Closed
DESCRIPTION:
URL:http://southcorningvillage.com/event/board-meeting-30/
END:VEVENT
END:VCALENDAR